BEGIN:VCALENDAR
VERSION:2.0
PRODID:icalendar-ruby
CALSCALE:GREGORIAN
METHOD:PUBLISH
BEGIN:VEVENT
DTSTAMP:20260423T011607Z
UID:8-564883@gnhmbc.com
DTSTART:20261008T013000Z
DTEND:20261008T024500Z
CLASS:PUBLIC
CREATED:20260422T165501
DESCRIPTION:\nJoin me in the sanctuary or via live stream for praise\, pray
 er\, and the proclamation of God’s word. As Jesus declared\, the church 
 is a house of prayer for believers. The service will be from 6:30-7:45 PM.
 \n\n\n\nTeleconference number: 978-990-5000\nAccess code: 603481\n\n\n\n\n
 \nWe love you. Have a blessed day!\nDr. William H. King III\, Pastor\n
LAST-MODIFIED:20260422T165501
LOCATION:Greater New Hope MBC
SUMMARY:Wednesday Bible Study
URL;VALUE=URI:https://www.gnhmbc.com/events/wednesday-bible-study/2026-10-0
 7
ATTACH;FILENAME=1.png;FMTTYPE=image/png:https://dq5pwpg1q8ru0.cloudfront.ne
 t/2025/06/25/00/46/14/9c4f80b6-50a0-47c8-a7d3-e3995eb05cc2/1.png
END:VEVENT
END:VCALENDAR
