BEGIN:VCALENDAR
VERSION:2.0
PRODID:icalendar-ruby
CALSCALE:GREGORIAN
METHOD:PUBLISH
BEGIN:VEVENT
DTSTAMP:20260423T063411Z
UID:17-565481@gnhmbc.com
DTSTART:20261025T150000Z
DTEND:20261025T154500Z
CLASS:PUBLIC
CREATED:20260422T194901
DESCRIPTION:We warmly invite you to join us for Sunday School at GNHMBC!\nT
 ime: 8:00 AM\nLocation: GNHMBC - 1725 State Hwy 3 League City\, Tx 77573\n
 Come and grow with us in faith and fellowship. We look forward to seeing y
 ou there!
LAST-MODIFIED:20260422T194901
LOCATION:Greater New Hope MBC
SUMMARY:Sunday School
URL;VALUE=URI:https://www.gnhmbc.com/events/sunday-school--17/2026-10-25
ATTACH;FILENAME=Sunday-School-%40gnhmbc-11324.png;FMTTYPE=image/png:https:/
 /dq5pwpg1q8ru0.cloudfront.net/2024/11/03/16/43/33/908046ac-8453-4317-ac0d-
 dfdaa62936cb/Sunday-School-%2540gnhmbc-11324.png
END:VEVENT
END:VCALENDAR
